BEGIN:VCALENDAR
VERSION:2.0
PRODID:-//ConVerve GmbH//B2BMatch//EN
METHOD:PUBLISH
BEGIN:VEVENT
DTSTART:20250218T070000Z
DTEND:20250219T210000Z
SUMMARY:ATR CV Supplier Forum 2025
LOCATION:Motorworld Metzingen
DESCRIPTION:
UID:0000001
DTSTAMP:20180215T145139Z
END:VEVENT
END:VCALENDAR
